BEGIN:VCALENDAR
VERSION:2.0
PRODID:-//Studienbegleitprogramm Rheinland-Pfalz/Saarland - ECPv6.15.17//NONSGML v1.0//EN
CALSCALE:GREGORIAN
METHOD:PUBLISH
X-ORIGINAL-URL:https://stube-rps.de
X-WR-CALDESC:Veranstaltungen für Studienbegleitprogramm Rheinland-Pfalz/Saarland
REFRESH-INTERVAL;VALUE=DURATION:PT1H
X-Robots-Tag:noindex
X-PUBLISHED-TTL:PT1H
BEGIN:VTIMEZONE
TZID:Europe/Berlin
BEGIN:DAYLIGHT
TZOFFSETFROM:+0100
TZOFFSETTO:+0200
TZNAME:CEST
DTSTART:20230326T010000
END:DAYLIGHT
BEGIN:STANDARD
TZOFFSETFROM:+0200
TZOFFSETTO:+0100
TZNAME:CET
DTSTART:20231029T010000
END:STANDARD
BEGIN:DAYLIGHT
TZOFFSETFROM:+0100
TZOFFSETTO:+0200
TZNAME:CEST
DTSTART:20240331T010000
END:DAYLIGHT
BEGIN:STANDARD
TZOFFSETFROM:+0200
TZOFFSETTO:+0100
TZNAME:CET
DTSTART:20241027T010000
END:STANDARD
BEGIN:DAYLIGHT
TZOFFSETFROM:+0100
TZOFFSETTO:+0200
TZNAME:CEST
DTSTART:20250330T010000
END:DAYLIGHT
BEGIN:STANDARD
TZOFFSETFROM:+0200
TZOFFSETTO:+0100
TZNAME:CET
DTSTART:20251026T010000
END:STANDARD
END:VTIMEZONE
BEGIN:VEVENT
DTSTART;TZID=Europe/Berlin:20240522T180000
DTEND;TZID=Europe/Berlin:20240522T210000
DTSTAMP:20260420T175000
CREATED:20240506T153815Z
LAST-MODIFIED:20240506T153849Z
UID:4749-1716400800-1716411600@stube-rps.de
SUMMARY:Interkultureller Abend (KHG LU)
DESCRIPTION:Die KHG Ludwigshafen in Kooperation mit dem AstA der HWG LU lädt ein zum \nInterkulturellen Abend\n \nFreut euch auf einen gemeinsamen Abend mit Gerichten aus der ganzen Welt\, verschiedenen Mini-Spielen und Aktivitäten. \nIhr habt Lust neue Leute\, Essen und verschiedene Kulturen kennenzulernen? \nDann ist unser Multikulti-Abend genau das Richtige für Euch! \nWie läuft der Abend ab? \nWir fangen draußen an und spielen erstmal verschiedene Spiele. Danach gehen wir alle in einen Raum und essen alle gemeinsam. \nWas kann/soll man mitbringen? \nAm besten wäre es\, wenn ihr etwas Traditionelles aus eurem Heimatland / eurer Kultur mitbringen könntet\, damit wir auch eine kulinarische Bandbreite haben. \nWann? Mittwoch\, 22.05.2024\, ab 18 Uhr \nWo? Prot. Jugendkirche\, Ludwig-Börne-Str. 2\, 67061 Ludwigshafen (Haltestelle Stifterstrasse) \nKosten: Kostenlos. \nAnfahrtskosten: STUBE erstattet die eventuell entstehenden Anfahrtskosten mit der Deutschen Bahn 2. Klasse im Regionalverkehr (ohne IC/ICE/EC) oder mit dem Bus. \nEs findet keine Anmeldung über STUBE statt.
URL:https://stube-rps.de/event/interkultureller-abend-khg-lu/
END:VEVENT
END:VCALENDAR