BEGIN:VCALENDAR
VERSION:2.0
PRODID:-//Studienbegleitprogramm Rheinland-Pfalz/Saarland - ECPv6.15.17//NONSGML v1.0//EN
CALSCALE:GREGORIAN
METHOD:PUBLISH
X-ORIGINAL-URL:https://stube-rps.de
X-WR-CALDESC:Veranstaltungen für Studienbegleitprogramm Rheinland-Pfalz/Saarland
REFRESH-INTERVAL;VALUE=DURATION:PT1H
X-Robots-Tag:noindex
X-PUBLISHED-TTL:PT1H
BEGIN:VTIMEZONE
TZID:Europe/Berlin
BEGIN:DAYLIGHT
TZOFFSETFROM:+0100
TZOFFSETTO:+0200
TZNAME:CEST
DTSTART:20230326T010000
END:DAYLIGHT
BEGIN:STANDARD
TZOFFSETFROM:+0200
TZOFFSETTO:+0100
TZNAME:CET
DTSTART:20231029T010000
END:STANDARD
BEGIN:DAYLIGHT
TZOFFSETFROM:+0100
TZOFFSETTO:+0200
TZNAME:CEST
DTSTART:20240331T010000
END:DAYLIGHT
BEGIN:STANDARD
TZOFFSETFROM:+0200
TZOFFSETTO:+0100
TZNAME:CET
DTSTART:20241027T010000
END:STANDARD
BEGIN:DAYLIGHT
TZOFFSETFROM:+0100
TZOFFSETTO:+0200
TZNAME:CEST
DTSTART:20250330T010000
END:DAYLIGHT
BEGIN:STANDARD
TZOFFSETFROM:+0200
TZOFFSETTO:+0100
TZNAME:CET
DTSTART:20251026T010000
END:STANDARD
END:VTIMEZONE
BEGIN:VEVENT
DTSTART;TZID=Europe/Berlin:20240528T183000
DTEND;TZID=Europe/Berlin:20240528T214500
DTSTAMP:20260420T151610
CREATED:20240506T160225Z
LAST-MODIFIED:20240506T160225Z
UID:4758-1716921000-1716932700@stube-rps.de
SUMMARY:Moscheeführung und Abendgebet (KHG/ESG LU)
DESCRIPTION:Die KHG und ESG Ludwigshafen laden ein: \nBesuch in der Sultan Selim Moschee Mannheim\nMoscheeführung und Abendgebet\n  \n \nWer kennt die Sultan Selim Moschee am Luisenring in Mannheim? \nOft daran vorbeigefahren\, nie drin gewesen … wir dürfen die Moschee kennenlernen. Die Hebammen-Studentin Helen Lauble führt uns am Dienstag\, 28. Mai um 19:30 Uhr durch ihre Moschee.\nAnschließend besuchen wir gemeinsam das Abendgebet um 21:20 Uhr\, was ca. 15 Minuten dauern wird. \nDie Schuhe bleiben draußen\, daher bitte darauf achten\, dass ihr Socken dabeihabt.\nBitte auch alle – Männer wie Frauen – auf angemessene Kleidung achten: keine zu kurzen Hosen/Röcke\, nicht schulterfrei.\nFür Besucherinnen ist es freigestellt\, ob sie im Gebetsraum ein Kopftuch tragen möchten oder nicht. \nTreffpunkt in Mannheim direkt vor der Moschee am Luisenring 28 oder für alle\, die gemeinsam von Speyer aus mit der Bahn fahren möchten: Abfahrt 18:25 Uhr am Hbf Speyer (wir treffen uns direkt auf Gleis 1)\, Ankunft Mannheim Hbf um 18:53 Uhr – dann fahren wir mit der Straßenbahn zur Moschee weiter. \nAnmeldung: Bitte bis spätestens Sonntag\, 26. Mai anmelden unter khg-sp(a)bistum-speyer.de \nWann? Dienstag\, 28.05.2024\, 18:25 Uhr \nWo? Mannheim\, Moschee\, Luisenring 28 \nKosten: Kostenlos. \nAnfahrtskosten: STUBE erstattet die eventuell entstehenden Anfahrtskosten mit der Deutschen Bahn 2. Klasse im Regionalverkehr (ohne IC/ICE/EC) oder mit dem Bus. \nEs findet keine Anmeldung über STUBE statt.
URL:https://stube-rps.de/event/moscheefuehrung-und-abendgebet-khg-esg-lu/
END:VEVENT
END:VCALENDAR