BEGIN:VCALENDAR
VERSION:2.0
PRODID:-//Studienbegleitprogramm Rheinland-Pfalz/Saarland - ECPv6.15.17//NONSGML v1.0//EN
CALSCALE:GREGORIAN
METHOD:PUBLISH
X-WR-CALNAME:Studienbegleitprogramm Rheinland-Pfalz/Saarland
X-ORIGINAL-URL:https://stube-rps.de
X-WR-CALDESC:Veranstaltungen für Studienbegleitprogramm Rheinland-Pfalz/Saarland
REFRESH-INTERVAL;VALUE=DURATION:PT1H
X-Robots-Tag:noindex
X-PUBLISHED-TTL:PT1H
BEGIN:VTIMEZONE
TZID:Europe/Berlin
BEGIN:DAYLIGHT
TZOFFSETFROM:+0100
TZOFFSETTO:+0200
TZNAME:CEST
DTSTART:20240331T010000
END:DAYLIGHT
BEGIN:STANDARD
TZOFFSETFROM:+0200
TZOFFSETTO:+0100
TZNAME:CET
DTSTART:20241027T010000
END:STANDARD
BEGIN:DAYLIGHT
TZOFFSETFROM:+0100
TZOFFSETTO:+0200
TZNAME:CEST
DTSTART:20250330T010000
END:DAYLIGHT
BEGIN:STANDARD
TZOFFSETFROM:+0200
TZOFFSETTO:+0100
TZNAME:CET
DTSTART:20251026T010000
END:STANDARD
BEGIN:DAYLIGHT
TZOFFSETFROM:+0100
TZOFFSETTO:+0200
TZNAME:CEST
DTSTART:20260329T010000
END:DAYLIGHT
BEGIN:STANDARD
TZOFFSETFROM:+0200
TZOFFSETTO:+0100
TZNAME:CET
DTSTART:20261025T010000
END:STANDARD
END:VTIMEZONE
BEGIN:VEVENT
DTSTART;TZID=Europe/Berlin:20250320T173000
DTEND;TZID=Europe/Berlin:20250320T220000
DTSTAMP:20260420T174130
CREATED:20250313T144812Z
LAST-MODIFIED:20250313T144854Z
UID:5097-1742491800-1742508000@stube-rps.de
SUMMARY:Iftar: Interkulturelles Fastenbrechen (KHG LU)
DESCRIPTION:Iftar\nDie Hochschulseelsorge und Studierende der HWG laden Sie alle herzlich zum interkulturellen Fastenbrechen ein! \n \n  \nWann? Donnerstag\, 20.03.2025\, 17:30 Uhr \nWo? Ludwig-Börne-Straße 2\, 67061 Ludwigshafen \nKosten: 10€ \nAnmeldefrist: 17.03.2025 \nEs findet keine Anmeldung über STUBE statt.
URL:https://stube-rps.de/event/iftar-interkulturelles-fastenbrechen-khg-lu/
END:VEVENT
END:VCALENDAR