BEGIN:VCALENDAR
VERSION:2.0
PRODID:-//Studienbegleitprogramm Rheinland-Pfalz/Saarland - ECPv6.15.17//NONSGML v1.0//EN
CALSCALE:GREGORIAN
METHOD:PUBLISH
X-ORIGINAL-URL:https://stube-rps.de
X-WR-CALDESC:Veranstaltungen für Studienbegleitprogramm Rheinland-Pfalz/Saarland
REFRESH-INTERVAL;VALUE=DURATION:PT1H
X-Robots-Tag:noindex
X-PUBLISHED-TTL:PT1H
BEGIN:VTIMEZONE
TZID:Europe/Berlin
BEGIN:DAYLIGHT
TZOFFSETFROM:+0100
TZOFFSETTO:+0200
TZNAME:CEST
DTSTART:20240331T010000
END:DAYLIGHT
BEGIN:STANDARD
TZOFFSETFROM:+0200
TZOFFSETTO:+0100
TZNAME:CET
DTSTART:20241027T010000
END:STANDARD
BEGIN:DAYLIGHT
TZOFFSETFROM:+0100
TZOFFSETTO:+0200
TZNAME:CEST
DTSTART:20250330T010000
END:DAYLIGHT
BEGIN:STANDARD
TZOFFSETFROM:+0200
TZOFFSETTO:+0100
TZNAME:CET
DTSTART:20251026T010000
END:STANDARD
BEGIN:DAYLIGHT
TZOFFSETFROM:+0100
TZOFFSETTO:+0200
TZNAME:CEST
DTSTART:20260329T010000
END:DAYLIGHT
BEGIN:STANDARD
TZOFFSETFROM:+0200
TZOFFSETTO:+0100
TZNAME:CET
DTSTART:20261025T010000
END:STANDARD
END:VTIMEZONE
BEGIN:VEVENT
DTSTART;TZID=Europe/Berlin:20250629T100000
DTEND;TZID=Europe/Berlin:20250629T170000
DTSTAMP:20260421T013548
CREATED:20240320T141607Z
LAST-MODIFIED:20250424T150201Z
UID:4661-1751191200-1751216400@stube-rps.de
SUMMARY:STUBE FORUM 2025 - Ideenlabor
DESCRIPTION:STUBE FORUM 2025\nGlobale Herausforderungen gemeinsam angehen!\n \nWas sind die globalen Themen unserer Zeit?\nWelche globalen Herausforderungen beeinflussen dein Leben?\nWie können wir gemeinsam aktiv werden und an Lösungsansätzen arbeiten?\nZu welchen Themen könnten wir im Rahmen von STUBE ein Seminar anbieten? \nDas STUBE FORUM ist dazu da\, EURE STIMME in der Planung des STUBE Programms 2026 hörbar zu machen. Gemeinsam wollen wir überlegen\, was die Themen sind\, die uns bewegen und wie wir daraus eine STUBE-Veranstaltungen basteln könnten. \nWillkommen sind Studierende mit STUBE-Erfahrung genauso wie STUBE-Newbees. \nSei dabei und mache deine Stimme hörbar! \nDatum:  Sonntag 29.06.2025\, 10-17 Uhr \nWo: Landau (Nähere Informationen zur Anfahrt erhältst du nach der Anmeldung) \nSeminarleitung: Alina Giesen (Koordinatorin von STUBE Rheinland-Pfalz/Saarland) \nDAS SEMINAR IST KOSTENLOS!  \nReisekosten: Falls du kein Deutschlandticket hast\, werden deine Reisekosten mit dem Nahverkehr (KEIN ICE; IC; EC) der Deutschen Bahn oder dem ÖPNV erstattet. Bitte weise uns bei deiner Anmeldung darauf hin. \nAnmeldung: \n Zur Online-Anmeldung
URL:https://stube-rps.de/event/stube-forum-2024-ideenlabor/
END:VEVENT
END:VCALENDAR