BEGIN:VCALENDAR
VERSION:2.0
PRODID:-//Studienbegleitprogramm Rheinland-Pfalz/Saarland - ECPv6.15.17//NONSGML v1.0//EN
CALSCALE:GREGORIAN
METHOD:PUBLISH
X-ORIGINAL-URL:https://stube-rps.de
X-WR-CALDESC:Veranstaltungen für Studienbegleitprogramm Rheinland-Pfalz/Saarland
REFRESH-INTERVAL;VALUE=DURATION:PT1H
X-Robots-Tag:noindex
X-PUBLISHED-TTL:PT1H
BEGIN:VTIMEZONE
TZID:Europe/Berlin
BEGIN:DAYLIGHT
TZOFFSETFROM:+0100
TZOFFSETTO:+0200
TZNAME:CEST
DTSTART:20240331T010000
END:DAYLIGHT
BEGIN:STANDARD
TZOFFSETFROM:+0200
TZOFFSETTO:+0100
TZNAME:CET
DTSTART:20241027T010000
END:STANDARD
BEGIN:DAYLIGHT
TZOFFSETFROM:+0100
TZOFFSETTO:+0200
TZNAME:CEST
DTSTART:20250330T010000
END:DAYLIGHT
BEGIN:STANDARD
TZOFFSETFROM:+0200
TZOFFSETTO:+0100
TZNAME:CET
DTSTART:20251026T010000
END:STANDARD
BEGIN:DAYLIGHT
TZOFFSETFROM:+0100
TZOFFSETTO:+0200
TZNAME:CEST
DTSTART:20260329T010000
END:DAYLIGHT
BEGIN:STANDARD
TZOFFSETFROM:+0200
TZOFFSETTO:+0100
TZNAME:CET
DTSTART:20261025T010000
END:STANDARD
END:VTIMEZONE
BEGIN:VEVENT
DTSTART;TZID=Europe/Berlin:20250607T100000
DTEND;TZID=Europe/Berlin:20250607T170000
DTSTAMP:20260421T000949
CREATED:20250417T145316Z
LAST-MODIFIED:20250528T144037Z
UID:5157-1749290400-1749315600@stube-rps.de
SUMMARY:BPSA-Informationstag (Deutsch)
DESCRIPTION:Informationstag zum BPSA-Programm \nAchtung\, Änderung!! Der Informationstag findet nun ONLINE über Zoom statt! \nDu bist internationale*r Student*in und hast vor\, in dein Herkunftsland oder deine Herkunftsregion zu reisen\, um dort ein Praktikum zu machen\, eine Forschungsarbeit zu schreiben oder Kontakte zum Arbeitsmarkt zu knüpfen? Dann ist das Programm Berufsvorbereitende Praktika- und Studienaufenthalte (BPSA) genau das Richtige für dich! \nAm Samstag\, den 07.06.2025\, hast du die Möglichkeit\, dich genauer über BPSA zu informieren. \nThemen\, die besprochen werden\, sind unter anderem: \n\nWas ist BPSA?\nWelche Erwartungen und Ziele habe ich an meinen Aufenthalt?\nWas sind die nächsten Schritte für die Planung meiner Reise? Was muss ich beachten?\nWelche Erfahrungen haben Studierende mit BPSA gemacht?\n\nBPSA ist ein Programm zur finanziellen Förderung für berufsvorbereitende Praktika- und Studienaufenthalte für Studierende aus dem sogenannten Globalen Süden\, die an deutschen Universitäten und Hochschulen eingeschrieben sind. Nähere Informationen zu BPSA findest du HIER auf unserer Homepage. \nWann? 07.06.2025 // Beginn 10 Uhr // Ende: 17 Uhr \nWo? Online (Zoom) – weitere Informationen werden nach Anmeldung verschickt. \nSprache: Deutsch. \nKosten: kostenlos. Eine Anmeldung ist notwendig. \nSeminarleitung:  \nAlina Giesen – Koordinatorin von STUBE Rheinland-Pfalz/Saarland. \nAnmeldung: \n Zur Online-Anmeldung
URL:https://stube-rps.de/event/bpsa-informationstag-deutsch-2/
END:VEVENT
BEGIN:VEVENT
DTSTART;TZID=Europe/Berlin:20250609T070000
DTEND;TZID=Europe/Berlin:20250613T230000
DTSTAMP:20260421T000949
CREATED:20250116T124701Z
LAST-MODIFIED:20250411T162650Z
UID:4982-1749452400-1749855600@stube-rps.de
SUMMARY:Regionale Strategien im Umgang mit globalem Klimawandel
DESCRIPTION:Die Georg-von-Vollmar-Akademie\nin Kooperation mit STUBE Rheinland-Pfalz/Saarland\, STUBE Rheinland und STUBE Niedersachsen\nlädt ein zu\nRegionale Strategien im Umgang mit globalem Klimawandel\nEine Ferienakademie in Bayern\, mit Exkursionen am Kochelsee und Umgebung im Alpenvorland\n  \nWir werden nachhaltige regionale und globale Entwicklung in Zeiten des Klimawandels in einem breiten Spektrum zwischen Umwelt und Gesellschaft\, Landnutzung und Tourismus bearbeiten. \nAm Beispiel der Alpen wollen wir die Veränderungen erkunden\, die die globale Klimakrise vor Ort mit sich bringt. Gemeinsam wollen wir auch den Blick weiten und uns mit den Auswirkungen der Klimakrise in verschiedenen Ländern des „Globalen Südens“ beschäftigen. \nFolgende Fragen werden wir diskutieren: \n\nWelche Ursachen und Probleme des Klimawandels gibt es im Alpenvorland ?\nWelche Folgen hat der Klimawandel in euren Herkunftsländern?\nWie können wir diesen Folgen lokal und global begegnen?\nWelche Folgen hat der Tourismus im Alpenraum und in den Ländern des Globalen Südens?\nWie kann nachhaltiger Tourismus regional und global realisiert werden?\nWelche Relevanz haben die Moore und die Biodiversität in Zeiten des Klimawandels?\nWelche Rolle können regenerative Energien spielen?\n\nWir werden Exkursionen ins Alpenvorland machen\, Vorträge hören und Lösungsvorschläge zu den verschiedenen Themen in Workshops erarbeiten. \nWann? 09.06.2025\, 7 Uhr – 13.06.2025\, 23 Uhr \nWo? Schloss Aspenstein\, Georg-von-Vollmar-Akademie e.V. (Am Aspensteinbichl 9-11\, 82431 Kochel am See\, Bayern) \nKosten: Die Teilnahmegebühr für Zugfahrt (ICE)\, Unterkunft\, Verpflegung und Programm beträgt 50\,00€ pro Person. Wie du den Beitrag bezahlen kannst\, erfährst du nach deiner online Anmeldung. Die Anmeldung ist erst gültig\, wenn die Überweisung erfolgt ist.  \nVeranstalter:  \nGeorg-von-Vollmar-Akademie \nSeminarleitung: \nAlina Giesen (STUBE RPS)\nKornelia von Kaisenberg (STUBE Rheinland)\nAndreas Kurschat (STUBE Niedersachsen) \nANMELDESCHLUSS: 30.04.2025 \n Anmeldung zum Seminar\n Zum Flyer
URL:https://stube-rps.de/event/klimawandel-und-nachhaltige-entwicklungen/
END:VEVENT
BEGIN:VEVENT
DTSTART;TZID=Europe/Berlin:20250613T150000
DTEND;TZID=Europe/Berlin:20250613T210000
DTSTAMP:20260421T000949
CREATED:20250530T083210Z
LAST-MODIFIED:20250530T083210Z
UID:5203-1749826800-1749848400@stube-rps.de
SUMMARY:Exkursion zur Bliesgau-Ölmühle (ESG SB)
DESCRIPTION:Die ESG Saarbrücken lädt ein zur \nExkursion zur\nBliesgau-Ölmühle\n  \n \n  \nWann? Freitag\, 13.06.2025; 15:00 Uhr \nWo? Treffpunkt an der Johanneskirche\, Cecilienstraße\, 66111 Saarbrücken \nKosten: Kostenlos. \nAnfahrtskosten: STUBE erstattet die eventuell entstehenden Anfahrtskosten mit der Deutschen Bahn 2. Klasse im Regionalverkehr (ohne IC/ICE/EC) oder mit dem Bus für angemeldete Teilnehmende\, die kein Semesterticket/Deutschlandticket besitzen. \nEs findet keine Anmeldung über STUBE statt.
URL:https://stube-rps.de/event/exkursion-zur-bliesgau-oelmuehle-esg-sb/
END:VEVENT
BEGIN:VEVENT
DTSTART;TZID=Europe/Berlin:20250613T170000
DTEND;TZID=Europe/Berlin:20250613T190000
DTSTAMP:20260421T000949
CREATED:20250530T073956Z
LAST-MODIFIED:20250530T073956Z
UID:5193-1749834000-1749841200@stube-rps.de
SUMMARY:Interreligiöses Friedensgebet und Länderabend Palästina (CG KL)
DESCRIPTION:Die Campusgemeinde Kaiserslautern lädt ein zum \nInterreligiösen Friedensgebet\nmit anschließendem \nLänderabend Palästina\nDiese Veranstaltung findet in Kooperation mit AStA\, Cafe Abraham und STUBE RPS statt. \n \n  \nWann? Freitag\, 13.06.2025; 17 Uhr Friedensgebet\, 18 Uhr Länderabend \nWo? CampusGemeinde Kaiserslautern\, Hermann-Hesse-Straße 50\, 67663 Kaiserslautern \nKosten: Kostenlos. \nAnfahrtskosten: STUBE erstattet die eventuell entstehenden Anfahrtskosten mit der Deutschen Bahn 2. Klasse im Regionalverkehr (ohne IC/ICE/EC) oder mit dem Bus. \nEs findet keine Anmeldung über STUBE statt.
URL:https://stube-rps.de/event/interreligioeses-friedensgebet-und-laenderabend-palaestina-cg-kl/
END:VEVENT
BEGIN:VEVENT
DTSTART;TZID=Europe/Berlin:20250615T180000
DTEND;TZID=Europe/Berlin:20250615T200000
DTSTAMP:20260421T000949
CREATED:20250530T084636Z
LAST-MODIFIED:20250614T105715Z
UID:5208-1750010400-1750017600@stube-rps.de
SUMMARY:Premiere! Entwicklungspolitisches Theater: Hoffnung auf Frieden (ESG SB)
DESCRIPTION:Entwicklungspolitisches Theater:\nHoffnung auf Frieden\nEine Theaterprojekt der Fairtrade-Initiative Saarland in Kooperation mit der ESG Saarbrücken \n \n \n  \nWann? Premiere: Sonntag\, 15.06.2025\, 18:00 Uhr \nDer Eintritt ist kostenlos.
URL:https://stube-rps.de/event/entwicklungspolitisches-theater-hoffnung-auf-frieden-esg-sb/
END:VEVENT
BEGIN:VEVENT
DTSTART;TZID=Europe/Berlin:20250629T100000
DTEND;TZID=Europe/Berlin:20250629T170000
DTSTAMP:20260421T000949
CREATED:20240320T141607Z
LAST-MODIFIED:20250424T150201Z
UID:4661-1751191200-1751216400@stube-rps.de
SUMMARY:STUBE FORUM 2025 - Ideenlabor
DESCRIPTION:STUBE FORUM 2025\nGlobale Herausforderungen gemeinsam angehen!\n \nWas sind die globalen Themen unserer Zeit?\nWelche globalen Herausforderungen beeinflussen dein Leben?\nWie können wir gemeinsam aktiv werden und an Lösungsansätzen arbeiten?\nZu welchen Themen könnten wir im Rahmen von STUBE ein Seminar anbieten? \nDas STUBE FORUM ist dazu da\, EURE STIMME in der Planung des STUBE Programms 2026 hörbar zu machen. Gemeinsam wollen wir überlegen\, was die Themen sind\, die uns bewegen und wie wir daraus eine STUBE-Veranstaltungen basteln könnten. \nWillkommen sind Studierende mit STUBE-Erfahrung genauso wie STUBE-Newbees. \nSei dabei und mache deine Stimme hörbar! \nDatum:  Sonntag 29.06.2025\, 10-17 Uhr \nWo: Landau (Nähere Informationen zur Anfahrt erhältst du nach der Anmeldung) \nSeminarleitung: Alina Giesen (Koordinatorin von STUBE Rheinland-Pfalz/Saarland) \nDAS SEMINAR IST KOSTENLOS!  \nReisekosten: Falls du kein Deutschlandticket hast\, werden deine Reisekosten mit dem Nahverkehr (KEIN ICE; IC; EC) der Deutschen Bahn oder dem ÖPNV erstattet. Bitte weise uns bei deiner Anmeldung darauf hin. \nAnmeldung: \n Zur Online-Anmeldung
URL:https://stube-rps.de/event/stube-forum-2024-ideenlabor/
END:VEVENT
END:VCALENDAR