BEGIN:VCALENDAR
VERSION:2.0
PRODID:-//Studienbegleitprogramm Rheinland-Pfalz/Saarland - ECPv6.15.17//NONSGML v1.0//EN
CALSCALE:GREGORIAN
METHOD:PUBLISH
X-WR-CALNAME:Studienbegleitprogramm Rheinland-Pfalz/Saarland
X-ORIGINAL-URL:https://stube-rps.de
X-WR-CALDESC:Veranstaltungen für Studienbegleitprogramm Rheinland-Pfalz/Saarland
REFRESH-INTERVAL;VALUE=DURATION:PT1H
X-Robots-Tag:noindex
X-PUBLISHED-TTL:PT1H
BEGIN:VTIMEZONE
TZID:Europe/Berlin
BEGIN:DAYLIGHT
TZOFFSETFROM:+0100
TZOFFSETTO:+0200
TZNAME:CEST
DTSTART:20210328T010000
END:DAYLIGHT
BEGIN:STANDARD
TZOFFSETFROM:+0200
TZOFFSETTO:+0100
TZNAME:CET
DTSTART:20211031T010000
END:STANDARD
BEGIN:DAYLIGHT
TZOFFSETFROM:+0100
TZOFFSETTO:+0200
TZNAME:CEST
DTSTART:20220327T010000
END:DAYLIGHT
BEGIN:STANDARD
TZOFFSETFROM:+0200
TZOFFSETTO:+0100
TZNAME:CET
DTSTART:20221030T010000
END:STANDARD
BEGIN:DAYLIGHT
TZOFFSETFROM:+0100
TZOFFSETTO:+0200
TZNAME:CEST
DTSTART:20230326T010000
END:DAYLIGHT
BEGIN:STANDARD
TZOFFSETFROM:+0200
TZOFFSETTO:+0100
TZNAME:CET
DTSTART:20231029T010000
END:STANDARD
END:VTIMEZONE
BEGIN:VEVENT
DTSTART;VALUE=DATE:20221124
DTEND;VALUE=DATE:20221127
DTSTAMP:20260420T203617
CREATED:20220829T154047Z
LAST-MODIFIED:20221024T102440Z
UID:3271-1669248000-1669507199@stube-rps.de
SUMMARY:Berlin Exkursion "Internationale Entwicklungszusammenarbeit in deutscher Verantwortung"
DESCRIPTION:Berlin Exkursion\nInternationale Entwicklungszusammenarbeit in deutscher Verantwortung\nvom 24.-26.11.2022\n \nAuch dieses Jahr findet wieder die beliebte Exkursion nach Berlin statt! Im Seminar „Internationale Entwicklungszusammenarbeit in deutscher Verantwortung“ bietet internationale Studierende die Möglichkeit\, sich intensiv mit den Schwerpunkten und Wirkungsweisen der deutschen Entwicklungspolitik auseinanderzusetzen. \nDas Besondere dieser Exkursion ist\, dass wir uns dort nicht nur theoretisch mit Fragestellungen beschäftigen\, sondern direkt mit Menschen zusammenkommen\, die seit vielen Jahren in der Entwicklungszusammenarbeit beruflich aktiv sind. \n \nZum Programm gehören neben einer entwicklungspolitischen Stadtführung und verschiedene Treffen mit politischen Institutionen und deren Vertreter*innen auch ein Gespräch mit einer/einem Bundestagsabgeordnet*en im Deutschen Bundestag. \nDu bist interessiert? Dann melde dich schnell an\, denn die Fahrt nach Berlin ist sehr beliebt! \nWann? Donnerstag 24.11 bis Samstag 26.11.2022 \nOrganisation: ESG und KHG Kaiserslautern/Homburg \nSeminarleitung: Britta Geburek-Haag (ESG Kaiserslautern/Homburg)\, Stefan Seckinger (KHG Kaiserslautern/Homburg) \nTagungsort: Evang. Johannesstift- Tagungszentrum Berlin \nSprache: Deutsch \nKosten: 30\,00€ (mehr Informationen nach Anmeldung) \nAnfahrt: Gemeinsame Anfahrt mit dem Zug vom zentralen Sammlungsbahnhof Mannheim HBF (siehe Programm). \nWichtiger Hinweis: Als Vorbereitung auf die Exkursion wird ein Vorbereitungstreffen stattfinden. Die Teilnahme daran ist verpflichtend. Datum und Uhrzeit des Treffens werden noch mitgeteilt. \nANMELDESCHLUSS 11.11.2022\n Zum Flyer\n Zum Programm\n Zur Online-Anmeldung
URL:https://stube-rps.de/event/berlin-exkursion22/
CATEGORIES:Deutsch,ESG Kaiserslautern,Exkursion,KHG Kaiserslautern,Kooperationsseminar,Wochenendseminar
END:VEVENT
END:VCALENDAR