BEGIN:VCALENDAR
VERSION:2.0
PRODID:-//Studienbegleitprogramm Rheinland-Pfalz/Saarland - ECPv6.15.17//NONSGML v1.0//EN
CALSCALE:GREGORIAN
METHOD:PUBLISH
X-WR-CALNAME:Studienbegleitprogramm Rheinland-Pfalz/Saarland
X-ORIGINAL-URL:https://stube-rps.de
X-WR-CALDESC:Veranstaltungen für Studienbegleitprogramm Rheinland-Pfalz/Saarland
REFRESH-INTERVAL;VALUE=DURATION:PT1H
X-Robots-Tag:noindex
X-PUBLISHED-TTL:PT1H
BEGIN:VTIMEZONE
TZID:Europe/Berlin
BEGIN:DAYLIGHT
TZOFFSETFROM:+0100
TZOFFSETTO:+0200
TZNAME:CEST
DTSTART:20220327T010000
END:DAYLIGHT
BEGIN:STANDARD
TZOFFSETFROM:+0200
TZOFFSETTO:+0100
TZNAME:CET
DTSTART:20221030T010000
END:STANDARD
BEGIN:DAYLIGHT
TZOFFSETFROM:+0100
TZOFFSETTO:+0200
TZNAME:CEST
DTSTART:20230326T010000
END:DAYLIGHT
BEGIN:STANDARD
TZOFFSETFROM:+0200
TZOFFSETTO:+0100
TZNAME:CET
DTSTART:20231029T010000
END:STANDARD
BEGIN:DAYLIGHT
TZOFFSETFROM:+0100
TZOFFSETTO:+0200
TZNAME:CEST
DTSTART:20240331T010000
END:DAYLIGHT
BEGIN:STANDARD
TZOFFSETFROM:+0200
TZOFFSETTO:+0100
TZNAME:CET
DTSTART:20241027T010000
END:STANDARD
END:VTIMEZONE
BEGIN:VEVENT
DTSTART;VALUE=DATE:20230608
DTEND;VALUE=DATE:20230612
DTSTAMP:20260421T175738
CREATED:20220821T075907Z
LAST-MODIFIED:20230424T133453Z
UID:3268-1686182400-1686527999@stube-rps.de
SUMMARY:Hamburg\, das Tor zur Welt. Globaler Handel\, zwischen Kolonialismus und Fairem Handel.
DESCRIPTION:  \nHamburg\, das Tor zur Welt.\nGlobaler Handel zwischen Kolonialismus und Fair Trade.\nDer Hamburger Hafen ist einer der größten Umschlaghäfen weltweit und macht die Stadt dadurch zu einem der bedeutendsten Logistikstandorte in Europa. Schon seit der ersten Hälfte des 18. Jahrhunderts gilt Hamburg als das „Tor zur Welt“\, denn hier kamen die Waren wie Zuckerrohr\, Palmöl oder Kautschuk aus den Kolonien an und wurden für den europäischen Markt weiterverarbeitet. Auch heute spielt Hamburg\, mit dem größten Freihafen Deutschlands eine entscheidende Rolle im globalen Welthandel. \nIn dieser historischen Stadt wollen wir uns mit globalem Handel und den Spuren des europäischen Kolonialismus beschäftigen. Gemeinsam mit Expert*innen wollen wir herausfinden inwiefern (neo-/post-)koloniale  Strukturen im heutigen globalen Handels- und Wirtschaftssystem noch immer vorhanden sind. \nDich erwartet ein abwechslungsreiches Programm: neben theoretischen Inputs\, werden wir genügend Zeit haben\, um die Stadt zu erkunden. \nGemeinsam fahren wir mit dem Zug über Mannheim nach Hamburg. Dort sind wir im Gästehaus der Missionsakadmie untergebracht\, wo auch ein Teil des Seminars stattfinden wird. \nAchtung: es sind nur 9 Plätze verfügbar.\nWann?  \n08.06 – 11.06.2023 \n\n\n\nAnreise am (Do) 08.06: Zentraler Treffpunkt ist Mannheim HBF um 09:00 Uhr. Abfahrt ist um 09:19Uhr. Die Koordination der Anreise von euren Standorten nach Mannheim erfolgt nachdem die Teilnehmenden feststehen.\nAbreise am (So) 11.06: Gemeinsame Abreise von Hamburg Hochkamp um 14:49 Uhr. Ankunft in Mannheim HBF ist um 20:27 Uhr. Die Koordination der Rückreise zu euren Standorten erfolgt nachdem die Teilnehmenden feststehen.\n\n\n\nWo?  \nMissionsakademie Hamburg //Rupertinstraße 67; 22609 Hamburg \nKosten: \nDie Teilnahmegebühr für Zugfahrt (ICE)\, Unterkunft\, Verpflegung und Programm beträgt 50\,00€ pro Person. Wie du den Beitrag bezahlen kannst\, erfährst du nach deiner online Anmeldung. Die Anmeldung ist erst gültig\, wenn die Überweisung erfolgt ist.  \nSollte es schwierig für dich sein die 50\,00€ aufzubringen\, finden wir eine individuelle Lösung. \nBedingungen: \nEine Rückzahlung der Teilnahmegebühr ist nur bei einer Absage bis zum 26.05.2023 möglich. Eine Teilnahmebescheinigung erhält man\, wenn man an mindestens 50% aller inhaltlichen Seminareinheiten teilgenommen hat. \nSeminarleitung:  \nMara Zöller (STUBE Rheinland-Pfalz/Saarland) \nKornelia von Kaisenberg (STUBE Rheinland) \nAnmeldungszeitraum: \nDie Anmeldung endet am 21.05.2023. \n Zur Online-Anmeldung\n Zum Flyer\n 
URL:https://stube-rps.de/event/hamburg-exkursion23/
CATEGORIES:Deutsch,Exkursion,Kooperationsseminar,STUBE Rheinland & STUBE RPS
END:VEVENT
END:VCALENDAR