BEGIN:VCALENDAR
VERSION:2.0
PRODID:-//Studienbegleitprogramm Rheinland-Pfalz/Saarland - ECPv6.15.17//NONSGML v1.0//EN
CALSCALE:GREGORIAN
METHOD:PUBLISH
X-ORIGINAL-URL:https://stube-rps.de
X-WR-CALDESC:Veranstaltungen für Studienbegleitprogramm Rheinland-Pfalz/Saarland
REFRESH-INTERVAL;VALUE=DURATION:PT1H
X-Robots-Tag:noindex
X-PUBLISHED-TTL:PT1H
BEGIN:VTIMEZONE
TZID:Europe/Berlin
BEGIN:DAYLIGHT
TZOFFSETFROM:+0100
TZOFFSETTO:+0200
TZNAME:CEST
DTSTART:20220327T010000
END:DAYLIGHT
BEGIN:STANDARD
TZOFFSETFROM:+0200
TZOFFSETTO:+0100
TZNAME:CET
DTSTART:20221030T010000
END:STANDARD
BEGIN:DAYLIGHT
TZOFFSETFROM:+0100
TZOFFSETTO:+0200
TZNAME:CEST
DTSTART:20230326T010000
END:DAYLIGHT
BEGIN:STANDARD
TZOFFSETFROM:+0200
TZOFFSETTO:+0100
TZNAME:CET
DTSTART:20231029T010000
END:STANDARD
BEGIN:DAYLIGHT
TZOFFSETFROM:+0100
TZOFFSETTO:+0200
TZNAME:CEST
DTSTART:20240331T010000
END:DAYLIGHT
BEGIN:STANDARD
TZOFFSETFROM:+0200
TZOFFSETTO:+0100
TZNAME:CET
DTSTART:20241027T010000
END:STANDARD
END:VTIMEZONE
BEGIN:VEVENT
DTSTART;TZID=Europe/Berlin:20230627T100000
DTEND;TZID=Europe/Berlin:20230627T160000
DTSTAMP:20260425T051518
CREATED:20220719T084555Z
LAST-MODIFIED:20230623T112548Z
UID:3190-1687860000-1687881600@stube-rps.de
SUMMARY:Cancelled / Application Workshop - How to get a Job
DESCRIPTION:Application Workshop \nHow to get a Job…\nA cooperation seminar by the Mainz Employment Agency and STUBE Rhineland-Palatinate/Saarland \n \nHow should I continue my career after studying in Germany? How do I present myself on the job market with an international biography? What challenges but also opportunities does my international education offer? \nThis seminar will provide useful tips on how international students can best present their studies in Germany in their own CVs\, how to write letters of motivation and how to present themselves in a good light at job interviews. \nThe aim is to reflect on individual life concepts in the context of interculturality\, reentry problems\, finding a job and the opportunities and risks of internationally oriented biographies. \nPlease bring: \n\n\n\nyour current curriculum vitae\na specific job advertisement\, if available\n\n\n\n  \nAttention: there are only 15 places available\, so you should register quickly.\nFirst come\, first served. There will also be a waiting list.\n  \nEvent details:\nWHEN?  \n\n\n\n\n\n27.06.2023  \nStarting 10:00 –  Ending: 16:00\n\n\n\n\n\nWHERE?  \n\n\n\n\n\nMÖD – Missionarisch Ökumenischer Dienst; Westbahnstr. 4\, 76829 Landau\n\n\n\n\n\nTravel costs: STUBE will cover any travel costs with Deutsche Bahn 2nd class in regional traffic (without IC/ICE/EC) or with the bus upon presentation of the original ticket (sent by post). \nLanguage: English \nCosts: Participation in the seminar is free of charge. \n  \nTHE WORKSHOP IS CANCELLED\n  \nWe look forward to your participation!
URL:https://stube-rps.de/event/international-biographies/
CATEGORIES:English,Kooperationsseminar,STUBE Rheinland-Pfalz/Saarland Seminar,Workshop
END:VEVENT
END:VCALENDAR