BEGIN:VCALENDAR
VERSION:2.0
PRODID:-//Studienbegleitprogramm Rheinland-Pfalz/Saarland - ECPv6.15.17//NONSGML v1.0//EN
CALSCALE:GREGORIAN
METHOD:PUBLISH
X-ORIGINAL-URL:https://stube-rps.de
X-WR-CALDESC:Veranstaltungen für Studienbegleitprogramm Rheinland-Pfalz/Saarland
REFRESH-INTERVAL;VALUE=DURATION:PT1H
X-Robots-Tag:noindex
X-PUBLISHED-TTL:PT1H
BEGIN:VTIMEZONE
TZID:Europe/Berlin
BEGIN:DAYLIGHT
TZOFFSETFROM:+0100
TZOFFSETTO:+0200
TZNAME:CEST
DTSTART:20220327T010000
END:DAYLIGHT
BEGIN:STANDARD
TZOFFSETFROM:+0200
TZOFFSETTO:+0100
TZNAME:CET
DTSTART:20221030T010000
END:STANDARD
BEGIN:DAYLIGHT
TZOFFSETFROM:+0100
TZOFFSETTO:+0200
TZNAME:CEST
DTSTART:20230326T010000
END:DAYLIGHT
BEGIN:STANDARD
TZOFFSETFROM:+0200
TZOFFSETTO:+0100
TZNAME:CET
DTSTART:20231029T010000
END:STANDARD
BEGIN:DAYLIGHT
TZOFFSETFROM:+0100
TZOFFSETTO:+0200
TZNAME:CEST
DTSTART:20240331T010000
END:DAYLIGHT
BEGIN:STANDARD
TZOFFSETFROM:+0200
TZOFFSETTO:+0100
TZNAME:CET
DTSTART:20241027T010000
END:STANDARD
END:VTIMEZONE
BEGIN:VEVENT
DTSTART;TZID=Europe/Berlin:20230117T200000
DTEND;TZID=Europe/Berlin:20230117T213000
DTSTAMP:20260422T074949
CREATED:20230109T083058Z
LAST-MODIFIED:20230110T134314Z
UID:3390-1673985600-1673991000@stube-rps.de
SUMMARY:WELTIVITY. Ein Spiel – fünf globale Themen
DESCRIPTION:WELTIVITY. Ein Spiel – fünf globale Themen \nInteraktiver Abend der ESG/KGH Kaiserslautern \nin Kooperation mit STUBE  und Michael Borger\, Referent für Globales Lernen \nIhr seid herzlich dazu eingeladen am Spieleabend der ESG/KHG Kaiserslautern am 17.01.2023 um 20:00 Uhr teilzunehmen: \n \nIm Spiel „Weltivity“ setzen wir uns mit aktuellen gesellschaftspolitischen Themen auseinander. Dafür reisen wir auf einem Spielfeld um die Erde\, sammeln Informationen\, müssen Aufgaben lösen\, treffen uns zu Konferenzen und beraten über aktuelle Themen unserer Zeit. Da wir alle unterschiedliche Zugänge und Startbedingungen ins Leben haben\, wird auch bei Weltivity ein sogenanntes Schicksal erwürfelt und beeinflusst die Handlungsfähigkeit der Spielenden. Mit Weltivity lassen sich Fragen aufgreifen wie: Was bedeutet Bildungsgerechtigkeit? Was ist eigentlich Frieden? Warum sind Fragen nach dem eigenen Konsumverhalten wichtig? Und wie hängt das mit dem Klimawandel zusammen? \nWann? 17.01.2023 um 20.00 Uhr \nWo? Evangelische Studierendengemeinde\, Hermann-Hesse-Str. 50\, 67663 Kaiserslautern \nKosten: Kostenlos. \nAnfahrtskosten: STUBE erstattet die eventuell entstehenden Anfahrtskosten mit der Deutschen Bahn 2. Klasse im Regionalverkehr (ohne IC/ICE/EC) oder mit dem Bus. \nAnmeldung nur notwendig\, wenn Anfahrtskosten erstatten werden sollen. \n Zum Flyer\n 
URL:https://stube-rps.de/event/weltivity-themenabend-kl/
CATEGORIES:ESG Kaiserslautern,KHG Kaiserslautern
END:VEVENT
END:VCALENDAR