BEGIN:VCALENDAR
VERSION:2.0
PRODID:-//Studienbegleitprogramm Rheinland-Pfalz/Saarland - ECPv6.15.17//NONSGML v1.0//EN
CALSCALE:GREGORIAN
METHOD:PUBLISH
X-WR-CALNAME:Studienbegleitprogramm Rheinland-Pfalz/Saarland
X-ORIGINAL-URL:https://stube-rps.de
X-WR-CALDESC:Veranstaltungen für Studienbegleitprogramm Rheinland-Pfalz/Saarland
REFRESH-INTERVAL;VALUE=DURATION:PT1H
X-Robots-Tag:noindex
X-PUBLISHED-TTL:PT1H
BEGIN:VTIMEZONE
TZID:Europe/Berlin
BEGIN:DAYLIGHT
TZOFFSETFROM:+0100
TZOFFSETTO:+0200
TZNAME:CEST
DTSTART:20220327T010000
END:DAYLIGHT
BEGIN:STANDARD
TZOFFSETFROM:+0200
TZOFFSETTO:+0100
TZNAME:CET
DTSTART:20221030T010000
END:STANDARD
BEGIN:DAYLIGHT
TZOFFSETFROM:+0100
TZOFFSETTO:+0200
TZNAME:CEST
DTSTART:20230326T010000
END:DAYLIGHT
BEGIN:STANDARD
TZOFFSETFROM:+0200
TZOFFSETTO:+0100
TZNAME:CET
DTSTART:20231029T010000
END:STANDARD
BEGIN:DAYLIGHT
TZOFFSETFROM:+0100
TZOFFSETTO:+0200
TZNAME:CEST
DTSTART:20240331T010000
END:DAYLIGHT
BEGIN:STANDARD
TZOFFSETFROM:+0200
TZOFFSETTO:+0100
TZNAME:CET
DTSTART:20241027T010000
END:STANDARD
END:VTIMEZONE
BEGIN:VEVENT
DTSTART;TZID=Europe/Berlin:20230211T100000
DTEND;TZID=Europe/Berlin:20230211T160000
DTSTAMP:20260420T064436
CREATED:20230124T101953Z
LAST-MODIFIED:20230124T101953Z
UID:3813-1676109600-1676131200@stube-rps.de
SUMMARY:Multiplikator*innen Schulung 1
DESCRIPTION:Grenzenlos – Globales Lernen in der beruflichen Bildung\nMultiplikator*innen Schulung durch \n \n  \nAn Studierende aus  Afrika\, Asien und Lateinamerika\, im Saarland \nWeiterbildung: Grenzenlos – Globales Lernen in der beruflichen Bildung \nLiebe Studierende aus Asien\, Lateinamerika oder aus Afrika\, \ndas WUS-Projekt „Grenzenlos – Globales Lernen in der beruflichen Bildung“ stärkt Toleranz und Persönlichkeit. Es gibt gute Gründe\, um mitzumachen: \n–              Du bekommst ein mehrsprachiges Zertifikat (nach allen vier Modulen); \n–              Du erhältst Gutachten für Stipendien und Bewerbungen; \n–              Du sammelst Erfahrungen im Präsentieren/Unterrichten; \n–              Du bekommst eine Aufwandsentschädigung nach Einsätzen. \nVoraussetzungen: \n\ngute Deutschkenntnisse in Wort und Schrift\,\ndie Motivation\, bei allen Modulen teilzunehmen und an beruflichen Schulen Lehrkooperationen zu machen.\n\n  \nNutz Deine Chance und melde Dich noch heute an: \nModul II \n\n\n\n11. Februar 2023 \nhttps://tinyurl.com/GR-Koop-SL-2023\n \nKooperationstag SAARLAND \nST. WENDEL  SA 10:00 – 16:00 Uhr \nLehrkräfte kennenlernen und Thema präsentieren\n\n\n\n  \nAuf unserer Homepage www.wusgermany.de/de/auslaenderstudium/grenzenlos  gibt es weitere Informationen zum Projekt oder telefonisch unter 0611/ 94460 51 oder per E-Mail unter grenzenlos@wusgermany.de  \n  \nFlyer & Programm\n Zum Flyer\n Programm\nAnmeldung\n Zur Online-Anmeldung
URL:https://stube-rps.de/event/multiplikatorinnen-schulung23_1/
CATEGORIES:Grenzenlos - Globales Lernen in der beruflichen Bildung,Multiplikator*innen Schulung
END:VEVENT
END:VCALENDAR