BEGIN:VCALENDAR
VERSION:2.0
PRODID:-//Studienbegleitprogramm Rheinland-Pfalz/Saarland - ECPv6.15.17//NONSGML v1.0//EN
CALSCALE:GREGORIAN
METHOD:PUBLISH
X-ORIGINAL-URL:https://stube-rps.de
X-WR-CALDESC:Veranstaltungen für Studienbegleitprogramm Rheinland-Pfalz/Saarland
REFRESH-INTERVAL;VALUE=DURATION:PT1H
X-Robots-Tag:noindex
X-PUBLISHED-TTL:PT1H
BEGIN:VTIMEZONE
TZID:Europe/Berlin
BEGIN:DAYLIGHT
TZOFFSETFROM:+0100
TZOFFSETTO:+0200
TZNAME:CEST
DTSTART:20210328T010000
END:DAYLIGHT
BEGIN:STANDARD
TZOFFSETFROM:+0200
TZOFFSETTO:+0100
TZNAME:CET
DTSTART:20211031T010000
END:STANDARD
BEGIN:DAYLIGHT
TZOFFSETFROM:+0100
TZOFFSETTO:+0200
TZNAME:CEST
DTSTART:20220327T010000
END:DAYLIGHT
BEGIN:STANDARD
TZOFFSETFROM:+0200
TZOFFSETTO:+0100
TZNAME:CET
DTSTART:20221030T010000
END:STANDARD
BEGIN:DAYLIGHT
TZOFFSETFROM:+0100
TZOFFSETTO:+0200
TZNAME:CEST
DTSTART:20230326T010000
END:DAYLIGHT
BEGIN:STANDARD
TZOFFSETFROM:+0200
TZOFFSETTO:+0100
TZNAME:CET
DTSTART:20231029T010000
END:STANDARD
END:VTIMEZONE
BEGIN:VEVENT
DTSTART;VALUE=DATE:20221202
DTEND;VALUE=DATE:20221205
DTSTAMP:20260421T190226
CREATED:20220821T081352Z
LAST-MODIFIED:20221024T120313Z
UID:3274-1669939200-1670198399@stube-rps.de
SUMMARY:Let's talk about Sex\, Gender and Justice! 02.- 04.12.2022
DESCRIPTION:Let’s talk about Sex\, Gender and Justice!\n WORKSHOP am 02.-04. Dezember 2022\nDiskussionen über die Geschlechterverhältnisse und Geschlechtergerechtigkeit werden nicht selten kontrovers geführt: Während die einen betonen\, Fortschritte hinsichtlich der Geschlechtergleichheit seien unübersehbar und die Diskriminierung von Frauen gehöre der Vergangenheit an\, verweisen die anderen auf die nach wie vor nachweisbare Benachteiligung von Frauen infolge unveränderter\, festgefahrener Grundstrukturen. Die soziale Stellung von non-binären Menschen wir häufig in dieser Debatte völlig ausgeklammert\, was dazu führt das Gendergerechtigkeit nur binär und nicht ganzheitlich gedacht wird. \nWir stellen uns daher die Frage\, ob die Abschaffung von Geschlechterkategorien Gerechtigkeit fördern würde oder ob es die Ungerechtigkeiten und Diskriminierungen nur verschleiern und unkenntlich machen würde. \nIm generationsübergreifenden Workshop\, gemeinsam mit Expert*innen\, wollen wir Begriffe wie Sex\, Gender\, Queer und Geschlechtergerechtigkeit klären\, um zu diskutieren\, ob die Überwindung binärer Geschlechterkategorien zu mehr Gerechtigkeit führt oder nicht. \n  \nWANN? 02.-04. Dezember 2022 // Anreise Fr 17:30 Uhr – Abreise S0 14:00 Uhr \nWO? Buntenschoen-Haus\, Landau \nKOSTEN?  Teilnahme ist kostenlos. \nSEMINARSPRACHE:  Deutsch. \nALTERSBESCHRÄNKUNG: ab 16 Jahren \nLEITUNG:   \nTomke-Maillien Lübben (M.A)\, (Jugendbildungsreferentin und Wissenschaftliche Studienleiterin Ev. Akademie der Pfalz) \nMara E. Zöller (M.A)\, (STUBE- Referentin für die STUBE Rheinland-Pfalz/Saarland) \nFlorian Gärtner (M.A)\, (Pfarrer und Leitung des MÖD) \nGASTREFERENT*INNEN: \nwerden noch bekannt gegeben \n  \n Zum Flyer + Programm\n Zur Online-Anmeldung\n     \nDer Workshop findet in Kooperation mit dem Missionarisch Ökumenischem Dienst (MÖD) und der evangelischen Akademie Pfalz statt und ist von dem Bundeszentrum für politische Bildung gefördert.
URL:https://stube-rps.de/event/gender-and-equality22/
CATEGORIES:Deutsch,Ev. Akademie der Pfalz,Missionarisch Ökumenischer Dienst MÖD,STUBE Rheinland-Pfalz/Saarland Seminar,Wochenendseminar
END:VEVENT
END:VCALENDAR